BEGIN:VCALENDAR
VERSION:2.0
PRODID:-//IGWG - ECPv5.4.0.2//NONSGML v1.0//EN
CALSCALE:GREGORIAN
METHOD:PUBLISH
X-WR-CALNAME:IGWG
X-ORIGINAL-URL:https://www.igwg.org
X-WR-CALDESC:Events for IGWG
BEGIN:VTIMEZONE
TZID:America/New_York
BEGIN:DAYLIGHT
TZOFFSETFROM:-0500
TZOFFSETTO:-0400
TZNAME:EDT
DTSTART:20170312T070000
END:DAYLIGHT
BEGIN:STANDARD
TZOFFSETFROM:-0400
TZOFFSETTO:-0500
TZNAME:EST
DTSTART:20171105T060000
END:STANDARD
END:VTIMEZONE
BEGIN:VEVENT
DTSTART;TZID=America/New_York:20170810T090000
DTEND;TZID=America/New_York:20170810T100000
DTSTAMP:20210602T011114
CREATED:20170808T204239Z
LAST-MODIFIED:20170808T204239Z
UID:1032-1502355600-1502359200@www.igwg.org
SUMMARY:Promundo's Experience of Gender Transformative Training
DESCRIPTION:Jane Kato-Wallace\, Senior Programme of Promundo-US will speak about the organisation’s implementing Program P\, a gender-transformative approach to engaging men as caregivers.
URL:https://www.igwg.org/event/promundos-experience-of-gender-transformative-training/
CATEGORIES:Featured on the Newsletter
END:VEVENT
END:VCALENDAR